BEGIN:VCALENDAR
VERSION:2.0
PRODID:-//AFAERE - ECPv6.15.20//NONSGML v1.0//EN
CALSCALE:GREGORIAN
METHOD:PUBLISH
X-ORIGINAL-URL:https://afaere.org
X-WR-CALDESC:Events for AFAERE
REFRESH-INTERVAL;VALUE=DURATION:PT1H
X-Robots-Tag:noindex
X-PUBLISHED-TTL:PT1H
BEGIN:VTIMEZONE
TZID:Europe/Paris
BEGIN:DAYLIGHT
TZOFFSETFROM:+0100
TZOFFSETTO:+0200
TZNAME:CEST
DTSTART:20240331T010000
END:DAYLIGHT
BEGIN:STANDARD
TZOFFSETFROM:+0200
TZOFFSETTO:+0100
TZNAME:CET
DTSTART:20241027T010000
END:STANDARD
BEGIN:DAYLIGHT
TZOFFSETFROM:+0100
TZOFFSETTO:+0200
TZNAME:CEST
DTSTART:20250330T010000
END:DAYLIGHT
BEGIN:STANDARD
TZOFFSETFROM:+0200
TZOFFSETTO:+0100
TZNAME:CET
DTSTART:20251026T010000
END:STANDARD
BEGIN:DAYLIGHT
TZOFFSETFROM:+0100
TZOFFSETTO:+0200
TZNAME:CEST
DTSTART:20260329T010000
END:DAYLIGHT
BEGIN:STANDARD
TZOFFSETFROM:+0200
TZOFFSETTO:+0100
TZNAME:CET
DTSTART:20261025T010000
END:STANDARD
END:VTIMEZONE
BEGIN:VEVENT
DTSTART;TZID=Europe/Paris:20250730T140000
DTEND;TZID=Europe/Paris:20250730T170000
DTSTAMP:20260424T095918
CREATED:20250718T233441Z
LAST-MODIFIED:20250804T093525Z
UID:395356-1753884000-1753894800@afaere.org
SUMMARY:AFAERE Webinar 2025
DESCRIPTION:TOPIC: The U.S. Trade War and Africa’s Green Future\nDate: July 30\, 2025\nTime: 2 PM WAT\nZoom link will be provided later \nFocus Areas\n1. Impact of the U.S. trade war on Africa’s clean energy goals and natural resource sustainability. \n2. Risks and vulnerabilities for African natural resources amid global trade tensions. \n3. Policy and market responses from Africa\, China\, and the U.S.\, and how Africa can adapt and thrive. \nKeynote Speaker\n \nProf. Anthony Onoja\nProfessor of Agricultural Economics\, University of Port Harcourt \nMore Information\nWe encourage interested researchers to join AFAERE (https://afaere.org/membership/ ). For questions related to AFAERE membership\, please contact afaerecouncil@gmail.com
URL:https://afaere.org/event/afaere-webinar-2025/
LOCATION:Zoom
CATEGORIES:Webinar
ATTACH;FMTTYPE=image/jpeg:https://afaere.org/wp-content/uploads/2025/07/container-ship-6631117_1280.jpg
ORGANIZER;CN="AFAERE":MAILTO:afaerecouncil@gmail.com
END:VEVENT
END:VCALENDAR