BEGIN:VCALENDAR
VERSION:2.0
PRODID:-//AFAERE - ECPv6.15.20//NONSGML v1.0//EN
CALSCALE:GREGORIAN
METHOD:PUBLISH
X-WR-CALNAME:AFAERE
X-ORIGINAL-URL:https://afaere.org
X-WR-CALDESC:Events for AFAERE
REFRESH-INTERVAL;VALUE=DURATION:PT1H
X-Robots-Tag:noindex
X-PUBLISHED-TTL:PT1H
BEGIN:VTIMEZONE
TZID:Europe/Helsinki
BEGIN:DAYLIGHT
TZOFFSETFROM:+0200
TZOFFSETTO:+0300
TZNAME:EEST
DTSTART:20250330T010000
END:DAYLIGHT
BEGIN:STANDARD
TZOFFSETFROM:+0300
TZOFFSETTO:+0200
TZNAME:EET
DTSTART:20251026T010000
END:STANDARD
BEGIN:DAYLIGHT
TZOFFSETFROM:+0200
TZOFFSETTO:+0300
TZNAME:EEST
DTSTART:20260329T010000
END:DAYLIGHT
BEGIN:STANDARD
TZOFFSETFROM:+0300
TZOFFSETTO:+0200
TZNAME:EET
DTSTART:20261025T010000
END:STANDARD
BEGIN:DAYLIGHT
TZOFFSETFROM:+0200
TZOFFSETTO:+0300
TZNAME:EEST
DTSTART:20270328T010000
END:DAYLIGHT
BEGIN:STANDARD
TZOFFSETFROM:+0300
TZOFFSETTO:+0200
TZNAME:EET
DTSTART:20271031T010000
END:STANDARD
END:VTIMEZONE
BEGIN:VEVENT
DTSTART;VALUE=DATE:20260629
DTEND;VALUE=DATE:20260704
DTSTAMP:20260423T150240
CREATED:20260215T004841Z
LAST-MODIFIED:20260215T005107Z
UID:667600-1782691200-1783123199@afaere.org
SUMMARY:WCERE 2026
DESCRIPTION:The World Congress of Environmental and Resource Economists (WCERE) is the international conference of environmental and resource economists organised every four years by the World Council of environmental and Resource Economists Associations (WCEREA). \nThe first WCERE dates back to 1998\, and the most recent once was held in 2018 in Gothenburg\, Sweden. Following a pause due to the pandemic\, the 7th WCERE will be held from 29 June to 3 July 2026 in Carcavelos\, Portugal. \nIt is co-organised by the Asian Association of Environmental and Resource Economics (AAERE)\, the Association of Environmental and Resource Economists (AERE)\, the African Association of Environmental and Resource Economists (AFAERE)\, the European Association of Environmental and Resource Economists (EAERE)\, and the Latin American Association of Environmental and Resource Economists (LAERE) \nWe are honoured to host WCERE2026 at NOVA School of Business and Economics (NOVA SBE)\, a sustainable\, oceanfront campus in Carcavelos\, Portugal. \nWe look forward to welcoming researchers\, policymakers\, and practitioners from around the world to engage in high-level discussions and exchange ideas at the intersection of economics\, environment\, and policy. \nImportant Dates\n01 October 2025 \n\nLaunch of call for papers\nLaunch of call for science-policy-business sessions\nLaunch of call for thematic sessions\n\n27 October 2025 \n\nLaunch of participation grants applications\nLaunch of exhibition applications\n\n16 January 2026 \n\nDeadline for paper submissions\nDeadline for submissions for science-policy-business sessions\nDeadline for submissions for thematic sessions\nDeadline for participation grants applications\n\n16 February 2026 \n\nNotification of acceptance of science-policy-business sessions\n\n12 March 2026 \n\nNotification of acceptance of papers\nNotification of acceptance of papers and thematic sessions\nRegistration opens for presenting authors\n\n20 March 2026 \n\nNotification of participation grants\n\n30 March 2026 \n\nRegistration opens for non-presenting authors\n\n15 April 2026 \n\nDeadline by which presenting authors must be registered for inclusion in the programme\nEarly registration deadline\n\n03 June 2026 \n\nPreliminary Congress programme release\n\n29 June – 03 July 2026 \nWorld Congress of Environmental and Resource Economists (WCERE) \n  \nSource: https://wcere2026.org
URL:https://afaere.org/event/wcere-2026/
LOCATION:Carcavelos – Cascais | Portugal
CATEGORIES:Conference
ATTACH;FMTTYPE=image/jpeg:https://afaere.org/wp-content/uploads/2026/02/60836Career-Fair-24_Easy-Resize.com_.jpg
END:VEVENT
END:VCALENDAR